BEGIN:VCALENDAR
VERSION:2.0
PRODID:TU Chemnitz
METHOD:PUBLISH
X-WR-CALNAME:Veranstaltungen der TU Chemnitz
X-WR-TIMEZONE:Europe/Berlin
BEGIN:VEVENT
CLASS:PUBLIC
DTSTART;TZID="Europe/Berlin":20051214T153000
DTEND;TZID="Europe/Berlin":20051214T170000
LOCATION:Reichenhainer Str. 90\, Chemnitz (Zentr. Hörsaal- und Seminargebäude)
SUMMARY:Philosophie im Dialog: "Evolutionspsychologie II – Bedeutung ohne Subjekt?" (TU Chemnitz\, Fachgebiet Philosophie)
DESCRIPTION:Prof. Dr. Peter Ohler\, Medienwissenschaft (TU Chemnitz)
ORGANIZER:MAILTO:nancy.naumann@s2003.tu-chemnitz.de
UID:6902@www.tu-chemnitz.de
CREATED:20051128T233500Z
DTSTAMP:20210802T195559Z
END:VEVENT
END:VCALENDAR
