BEGIN:VCALENDAR
VERSION:2.0
PRODID:TU Chemnitz
METHOD:PUBLISH
X-WR-CALNAME:Veranstaltungen der TU Chemnitz
X-WR-TIMEZONE:Europe/Berlin
BEGIN:VEVENT
CLASS:PUBLIC
DTSTART;TZID="Europe/Berlin":20051126T210000
DTEND;TZID="Europe/Berlin":20051127T020000
LOCATION:Bunker-Club * Rosenplatz 7 * gleich am Campus
SUMMARY:Live: ROTORFON + Toter Punkt
DESCRIPTION:CARUSOPUNK!!!\nSongs der 20-30-er Jahre im bekannten Beafra-Stil...\nEugen Balanskat\,der Frontman der legendären "Skeptiker"\, auf neuen punkigen Wegen...\nLeute im Zeitgeiststyle werden an diesen Abend ein Freigetränk abfassen...
ORGANIZER:MAILTO:schneide@hrz.tu-chemnitz.de
UID:6893@www.tu-chemnitz.de
CREATED:20051126T033200Z
DTSTAMP:20210802T195633Z
END:VEVENT
END:VCALENDAR
