BEGIN:VCALENDAR
VERSION:2.0
PRODID:TU Chemnitz
METHOD:PUBLISH
X-WR-CALNAME:Veranstaltungen der TU Chemnitz
X-WR-TIMEZONE:Europe/Berlin
BEGIN:VEVENT
CLASS:PUBLIC
DTSTART;TZID="Europe/Berlin":20060110T153000
DTEND;TZID="Europe/Berlin":20060110T170000
LOCATION:Reichenhainer Str. 90\, Chemnitz (Zentr. Hörsaal- und Seminargebäude)
SUMMARY:Seniorenkolleg "Kreislaufwirtschaft – Neue Produkte aus behandelten Recyclingwerkstoffen und nachwachsenden Rohstoffen" (Philosophische Fakultät\, Professur Erwachsenenbildung und betriebliche Weiterbildung/ "Bildungsforum SWS")
DESCRIPTION:Prof. Dr. Bernd Platzer\, TU Chemnitz\nSekretariat des Seniorenkollegs[dienstags 10:00 - 14:30 Uhr] Tel.: 0371/ 531 2075
ORGANIZER:MAILTO:jana.voigt@phil.tu-chemnitz.de
UID:6878@www.tu-chemnitz.de
CREATED:20051122T171100Z
DTSTAMP:20210802T195525Z
END:VEVENT
END:VCALENDAR
