BEGIN:VCALENDAR
VERSION:2.0
PRODID:TU Chemnitz
METHOD:PUBLISH
X-WR-CALNAME:Veranstaltungen der TU Chemnitz
X-WR-TIMEZONE:Europe/Berlin
BEGIN:VEVENT
CLASS:PUBLIC
DTSTART;TZID="Europe/Berlin":20060611T103000
DTEND;TZID="Europe/Berlin":20060611T120000
LOCATION:Reichenhainer Str. 90\, Chemnitz (Zentr. Hörsaal- und Seminargebäude)
SUMMARY:SonntagsUni: "Je selbstsicherer desto besser?" (Philosophische Fakultät\, Professur Erwachsenenbildung und betriebliche Weiterbildung/ "Bildungsforum SWS")
DESCRIPTION:Prof. Dr. Astrid Schütz\, Inhaberin der Professur für Differentielle Psychologie und Diagnostik am Institut für Psychologie der\nJana Voigt\, Tel. 0371/531 4532\, E-Mail: jana.voigt@phil.tu-chemnitz.de
ORGANIZER:MAILTO:jana.voigt@phil.tu-chemnitz.de
UID:6876@www.tu-chemnitz.de
CREATED:20051122T170600Z
DTSTAMP:20210802T195309Z
END:VEVENT
END:VCALENDAR
