BEGIN:VCALENDAR
VERSION:2.0
PRODID:TU Chemnitz
METHOD:PUBLISH
X-WR-CALNAME:Veranstaltungen der TU Chemnitz
X-WR-TIMEZONE:Europe/Berlin
BEGIN:VEVENT
CLASS:PUBLIC
DTSTART;TZID="Europe/Berlin":20051129T180000
DTEND;TZID="Europe/Berlin":20051129T200000
LOCATION:Reichenhainer Str. 90\, Chemnitz (Zentr. Hörsaal- und Seminargebäude)
SUMMARY:Ringvorlesung: Deutscher Patriotismus im vereinten Europa (Thema: "Wir sind ein Volk" - Was heißt das?) (Philosophische Fakultät\, Internationale Politik - Politische Systeme/politische Institutionen - Europäische Geschichte; Konrad-Adenauer-Stiftung Dresden)
DESCRIPTION:(1) Die deutsche Einheit ist gelungen; (2) Eine Leitkultur ist nötig. Ausländer benötigen\, um sich in der Gesellschaft zurechtzufinden\, mehr als deutsche Sprachkenntnisse; (3) Die Deutschen haben ein gebrochenes Verhältnis zu ihrer Geschichte.\nProf. Dr. Richard Schröder\, Humbold-Universität zu Berlin
ORGANIZER:MAILTO:daniel.rennert@phil.tu-chemnitz.de
UID:6860@www.tu-chemnitz.de
CREATED:20051122T112500Z
DTSTAMP:20210802T195650Z
END:VEVENT
END:VCALENDAR
