BEGIN:VCALENDAR
VERSION:2.0
PRODID:TU Chemnitz
METHOD:PUBLISH
X-WR-CALNAME:Veranstaltungen der TU Chemnitz
X-WR-TIMEZONE:Europe/Berlin
BEGIN:VEVENT
CLASS:PUBLIC
DTSTART;TZID="Europe/Berlin":20051115T113000
DTEND;TZID="Europe/Berlin":20051115T130000
LOCATION:Wilhelm-Raabe-Str. 43\, Chemnitz
SUMMARY:War die Agenda 2010 an allem Schuld? Die Regierungsparteien SPD und Bündnis 90/Grüne (Philosophische Fakultät\, Professur für politische Systeme/politische Institutionen (Prof. Dr. Eckhard Jesse))
DESCRIPTION:Prof. Dr. Oskar Niedermayer (Freie Universität Berlin)\nhttp://www.tu-chemnitz.de/phil/politik/veranstaltungen.htm
ORGANIZER:MAILTO:daniel.rennert@phil.tu-chemnitz.de
UID:6807@www.tu-chemnitz.de
CREATED:20051109T141300Z
DTSTAMP:20210802T195648Z
END:VEVENT
END:VCALENDAR
