BEGIN:VCALENDAR
VERSION:2.0
PRODID:TU Chemnitz
METHOD:PUBLISH
X-WR-CALNAME:Veranstaltungen der TU Chemnitz
X-WR-TIMEZONE:Europe/Berlin
BEGIN:VEVENT
CLASS:PUBLIC
DTSTART;TZID="Europe/Berlin":20051110T210000
DTEND;TZID="Europe/Berlin":20051110T230000
LOCATION:Kino\, Reichenhainer Str. 35/37
SUMMARY:[Kino * "mittendrin"] Schräge Zeit (Filmclub »mittendrin«)
DESCRIPTION:Ostberlin der 80er Jahre\, ein geiles Leben mit viel Sex\, illegalen Ausstellungen\, lauten Punkkonzerten und wilden Partys\, die häufig in einer Flucht durch Keller oder über Häuserdächer vor der Stasi und Einsatzkommandos der Volkspolizei gipfelten...
ORGANIZER:MAILTO:schneide@hrz.tu-chemnitz.de
UID:6794@www.tu-chemnitz.de
CREATED:20051108T162800Z
DTSTAMP:20210802T195646Z
END:VEVENT
END:VCALENDAR
