BEGIN:VCALENDAR
VERSION:2.0
PRODID:TU Chemnitz
METHOD:PUBLISH
X-WR-CALNAME:Veranstaltungen der TU Chemnitz
X-WR-TIMEZONE:Europe/Berlin
BEGIN:VEVENT
CLASS:PUBLIC
DTSTART;TZID="Europe/Berlin":20051119T220000
DTEND;TZID="Europe/Berlin":20051120T030000
LOCATION:Vettersstr. 70/72\, Chemnitz (Studentenwohnheim)
SUMMARY:>>>Privat Club - FPM meets PEB and Radio UNiCC<<< (FPM-Club)
DESCRIPTION:\nKleine\, smarte Party am Samstag.\n\nCocktails und Bar: FPM-Club und PEB-Club\n\nFür gute Musik sorgen die DJs von Radio UNiCC\n\n
ORGANIZER:MAILTO:hoga@hrz.tu-chemnitz.de
UID:6778@www.tu-chemnitz.de
CREATED:20051106T222600Z
DTSTAMP:20210802T195642Z
END:VEVENT
END:VCALENDAR
