BEGIN:VCALENDAR
VERSION:2.0
PRODID:TU Chemnitz
METHOD:PUBLISH
X-WR-CALNAME:Veranstaltungen der TU Chemnitz
X-WR-TIMEZONE:Europe/Berlin
BEGIN:VEVENT
CLASS:PUBLIC
DTSTART;TZID="Europe/Berlin":20051124T151500
DTEND;TZID="Europe/Berlin":20051124T151500
LOCATION:Erfenschlager Str. 73\, Chemnitz
SUMMARY:Promotion (Fakultät für Maschinenbau)
DESCRIPTION:Entwicklung der Zeitdaten-Backend-Methode für die mathematische Verarbeitung betrieblicher Prozessdaten zu Planzeiten\nDipl.-Ing. Ludek Hodic
ORGANIZER:MAILTO:kerstin.hensel@mb.tu-chemnitz.de
UID:6775@www.tu-chemnitz.de
CREATED:20051104T140000Z
DTSTAMP:20210802T195637Z
END:VEVENT
END:VCALENDAR
