BEGIN:VCALENDAR
VERSION:2.0
PRODID:TU Chemnitz
METHOD:PUBLISH
X-WR-CALNAME:Veranstaltungen der TU Chemnitz
X-WR-TIMEZONE:Europe/Berlin
BEGIN:VEVENT
CLASS:PUBLIC
DTSTART;TZID="Europe/Berlin":20051124T081500
DTEND;TZID="Europe/Berlin":20051124T081500
LOCATION:Erfenschlager Str. 73\, Chemnitz
SUMMARY:Promotion (Fakultät für Maschinenbau)
DESCRIPTION:Methodik zur Struktur- und Layoutplanung wandlungsfähiger Produktionssysteme\nDipl.-Ing. Uwe Günther
ORGANIZER:MAILTO:kerstin.hensel@mb.tu-chemnitz.de
UID:6774@www.tu-chemnitz.de
CREATED:20051104T135600Z
DTSTAMP:20210802T195648Z
END:VEVENT
END:VCALENDAR
