BEGIN:VCALENDAR
VERSION:2.0
PRODID:TU Chemnitz
METHOD:PUBLISH
X-WR-CALNAME:Veranstaltungen der TU Chemnitz
X-WR-TIMEZONE:Europe/Berlin
BEGIN:VEVENT
CLASS:PUBLIC
DTSTART;TZID="Europe/Berlin":20051105T210000
DTEND;TZID="Europe/Berlin":20051106T020000
LOCATION:Bunker-Club * Rosenplatz 7 * gleich am Campus
SUMMARY:Live: SCREAM SILENCE + TRANSIT POETRY
DESCRIPTION:Ein Schrei in der Stille\, der ähnlich wie der der Dreadful Shadows erklingt!
ORGANIZER:MAILTO:schneide@hrz.tu-chemnitz.de
UID:6773@www.tu-chemnitz.de
CREATED:20051104T124300Z
DTSTAMP:20210802T195633Z
END:VEVENT
END:VCALENDAR
