BEGIN:VCALENDAR
VERSION:2.0
PRODID:TU Chemnitz
METHOD:PUBLISH
X-WR-CALNAME:Veranstaltungen der TU Chemnitz
X-WR-TIMEZONE:Europe/Berlin
BEGIN:VEVENT
CLASS:PUBLIC
DTSTART;TZID="Europe/Berlin":20051108T193000
DTEND;TZID="Europe/Berlin":20051108T223000
LOCATION:Club der Kulturen (Kompass)
SUMMARY:"Contemporary Irish Cinema: Screening the 'Celtic Tiger'" (Philosophische Fakultät\, Anglistische Literaturwissenschaft)
DESCRIPTION:Der Vortrag gibt einen Einblick in die zeitgenössische irische Filmszene. Im Anschluss lädt der English Club zum anregenden Gespräch in gemütlicher Atmosphäre.\nEintritt ist frei!\nMark Schreiber\, M.A. (Anglistische Literaturwissenschaft\, TU Chemnitz)\nMark Schreiber\, M.A.\, Tel. 4254\, mark.schreiber@phil.tu-chemnitz.de
ORGANIZER:MAILTO:mark.schreiber@phil.tu-chemnitz.de
UID:6765@www.tu-chemnitz.de
CREATED:20051101T171400Z
DTSTAMP:20210802T195646Z
END:VEVENT
END:VCALENDAR
