BEGIN:VCALENDAR
VERSION:2.0
PRODID:TU Chemnitz
METHOD:PUBLISH
X-WR-CALNAME:Veranstaltungen der TU Chemnitz
X-WR-TIMEZONE:Europe/Berlin
BEGIN:VEVENT
CLASS:PUBLIC
DTSTART;TZID="Europe/Berlin":20060124T190000
DTEND;TZID="Europe/Berlin":20060124T203000
LOCATION:Reichenhainer Str. 70\, Chemnitz (Rühlmann-Bau)
SUMMARY:Was sind kulturelle Differenzen? »Interkulturelles« aus Sicht einer Linguistik der Zugehörigkeitskommunikation (Philosophische Fakultät\, IMIK Institut für Medienkommunikation und interkulturelle Kommunikation)
DESCRIPTION:Prof. Dr. Heiko Hausendorf\, Germanistische Linguistik\, Universität Bayreuth
ORGANIZER:MAILTO:doris.weidemann@phil.tu-chemnitz.de
UID:6763@www.tu-chemnitz.de
CREATED:20051101T143000Z
DTSTAMP:20210802T195532Z
END:VEVENT
END:VCALENDAR
