BEGIN:VCALENDAR
VERSION:2.0
PRODID:TU Chemnitz
METHOD:PUBLISH
X-WR-CALNAME:Veranstaltungen der TU Chemnitz
X-WR-TIMEZONE:Europe/Berlin
BEGIN:VEVENT
CLASS:PUBLIC
DTSTART;TZID="Europe/Berlin":20051101T180000
DTEND;TZID="Europe/Berlin":20051101T200000
LOCATION:Reichenhainer Str. 90\, Chemnitz (Zentr. Hörsaal- und Seminargebäude)
SUMMARY:Ringvorlesung: Deutscher Patriotismus im vereinten Europa (Nächster Vortrag: Patriotismus in Polen und Deutschland) (TU Chemnitz\, Internationale Politik - Politische Systeme/politische Institutionen - Europäische Geschichte; Konrad-Adenauer-Stiftung Dresden)
DESCRIPTION:Inhalt: -Teilung Polens und Wirkung auf polnischen Patriotismus; -Aktuelle Situation in Polen nach den Parlaments- und Präsidentschaftswahlen; -Zentrum gegen Vertreibungen\nAdam Krzeminski\n"http://www.tu-chemnitz.de/phil/politik" oder: "http://www.kas-dresden.de"
ORGANIZER:MAILTO:daniel.rennert@phil.tu-chemnitz.de
UID:6756@www.tu-chemnitz.de
CREATED:20051028T204400Z
DTSTAMP:20210802T195642Z
END:VEVENT
END:VCALENDAR
