BEGIN:VCALENDAR
VERSION:2.0
PRODID:TU Chemnitz
METHOD:PUBLISH
X-WR-CALNAME:Veranstaltungen der TU Chemnitz
X-WR-TIMEZONE:Europe/Berlin
BEGIN:VEVENT
CLASS:PUBLIC
DTSTART;TZID="Europe/Berlin":19990902T140000
DTEND;TZID="Europe/Berlin":19990902T153000
LOCATION:Uni-Teil 3: Reichenhainer Str. 70\, Chemnitz (Zentr. Hörsaal- und Seminargebäude)
SUMMARY:XXVI. Internationaler Sommerkurs für Deutsche Sprache: Lesung mit Adel Karascholi: "Daheim in der Fremde"  (Philosophische Fakultät\, Germanistik/Deutsch als Fremdsprache)
DESCRIPTION:Eintritt: 5 Mark\nAdel Karascholi\nDr. Martina Hintze\, Tel. 5 31-42 49\, E-Mail: martina.hintze@phil.tu-chemnitz.de
ORGANIZER:MAILTO:iroe@hrz.tu-chemnitz.de
UID:674@www.tu-chemnitz.de
CREATED:19990901T144000Z
DTSTAMP:20210802T203332Z
END:VEVENT
END:VCALENDAR
