BEGIN:VCALENDAR
VERSION:2.0
PRODID:TU Chemnitz
METHOD:PUBLISH
X-WR-CALNAME:Veranstaltungen der TU Chemnitz
X-WR-TIMEZONE:Europe/Berlin
BEGIN:VEVENT
CLASS:PUBLIC
DTSTART;TZID="Europe/Berlin":20051028T210000
DTEND;TZID="Europe/Berlin":20051029T030000
LOCATION:Bunker-Club * Rosenplatz 7 * gleich am Campus
SUMMARY:Live: ROBERT & THE ROBOTERS + MIKROWELLE
DESCRIPTION:Die Roboter haben Beat im Sixties-Surf-Style zu ihrem Markenzeichen gemacht - gewürzt mit einer illustren und schrägen Bühnenshow.\nAus der Mikrowelle kommt elektronische Westernmusik als würde der Cowboy mit angesägten CD-Rohlingen werfen.\n(5\,- €)
ORGANIZER:MAILTO:schneide@hrz.tu-chemnitz.de
UID:6733@www.tu-chemnitz.de
CREATED:20051025T131600Z
DTSTAMP:20210802T195756Z
END:VEVENT
END:VCALENDAR
