BEGIN:VCALENDAR
VERSION:2.0
PRODID:TU Chemnitz
METHOD:PUBLISH
X-WR-CALNAME:Veranstaltungen der TU Chemnitz
X-WR-TIMEZONE:Europe/Berlin
BEGIN:VEVENT
CLASS:PUBLIC
DTSTART;TZID="Europe/Berlin":20051115T210000
DTEND;TZID="Europe/Berlin":20051116T020000
LOCATION:Vettersstr. 52/54\, Chemnitz (Studentenwohnheim)
SUMMARY:Bierdiplom
DESCRIPTION:Die schöne Tradition auch wieder in diesem Semester\, Trinkt euch durch zehn verschiedene Biersorten und schafft so euer Diplom
ORGANIZER:MAILTO:Morwupfel@aol.com
UID:6730@www.tu-chemnitz.de
CREATED:20051024T230900Z
DTSTAMP:20210802T195643Z
END:VEVENT
END:VCALENDAR
