BEGIN:VCALENDAR
VERSION:2.0
PRODID:TU Chemnitz
METHOD:PUBLISH
X-WR-CALNAME:Veranstaltungen der TU Chemnitz
X-WR-TIMEZONE:Europe/Berlin
BEGIN:VEVENT
CLASS:PUBLIC
DTSTART;TZID="Europe/Berlin":20051025T210000
DTEND;TZID="Europe/Berlin":20051026T010000
LOCATION:Vettersstr. 52/54\, Chemnitz (Studentenwohnheim)
SUMMARY:Trink dich durch Europa
DESCRIPTION:Lustiges Losspiel mit Getränken aus verschiedenen Ländern Europas
ORGANIZER:MAILTO:Morwupfel@aol.com
UID:6729@www.tu-chemnitz.de
CREATED:20051024T230600Z
DTSTAMP:20210802T195750Z
END:VEVENT
END:VCALENDAR
