BEGIN:VCALENDAR
VERSION:2.0
PRODID:TU Chemnitz
METHOD:PUBLISH
X-WR-CALNAME:Veranstaltungen der TU Chemnitz
X-WR-TIMEZONE:Europe/Berlin
BEGIN:VEVENT
CLASS:PUBLIC
DTSTART;TZID="Europe/Berlin":20051022T150000
DTEND;TZID="Europe/Berlin":20051022T180000
LOCATION:Reichenhainer Str. 55\, Chemnitz (Mensa)
SUMMARY:TaC : Bundesliga Kneipe (TaC)
DESCRIPTION:Die sieben Samtagspartien in Konferenzschaltung
ORGANIZER:MAILTO:piek@hrz.tu-chemnitz.de
UID:6691@www.tu-chemnitz.de
CREATED:20051018T133300Z
DTSTAMP:20210802T195748Z
END:VEVENT
END:VCALENDAR
