BEGIN:VCALENDAR
VERSION:2.0
PRODID:TU Chemnitz
METHOD:PUBLISH
X-WR-CALNAME:Veranstaltungen der TU Chemnitz
X-WR-TIMEZONE:Europe/Berlin
BEGIN:VEVENT
CLASS:PUBLIC
DTSTART;TZID="Europe/Berlin":20051110T154500
DTEND;TZID="Europe/Berlin":20051110T171500
LOCATION:Str. der Nationen 62\, Chemnitz (Böttcher-Bau)
SUMMARY:Studieren in Neuseeland / Australien (Internationales Universitätszentrum)
DESCRIPTION:IEC - International Education Centre\nFrau Lorenz
ORGANIZER:MAILTO:welz@hrz.tu-chemnitz.de
UID:6685@www.tu-chemnitz.de
CREATED:20051018T102300Z
DTSTAMP:20210802T195639Z
END:VEVENT
END:VCALENDAR
