BEGIN:VCALENDAR
VERSION:2.0
PRODID:TU Chemnitz
METHOD:PUBLISH
X-WR-CALNAME:Veranstaltungen der TU Chemnitz
X-WR-TIMEZONE:Europe/Berlin
BEGIN:VEVENT
CLASS:PUBLIC
DTSTART;TZID="Europe/Berlin":20051103T154500
DTEND;TZID="Europe/Berlin":20051103T171500
LOCATION:Str. der Nationen 62\, Chemnitz (Böttcher-Bau)
SUMMARY:Studieren in Europa (Internationales Universitätszentrum)
DESCRIPTION:Es berät das IUZ zu dem Austauschprogramm SOKRATES / ERASMUS.\nFrau Lorenz
ORGANIZER:MAILTO:welz@hrz.tu-chemnitz.de
UID:6684@www.tu-chemnitz.de
CREATED:20051018T102200Z
DTSTAMP:20210802T195644Z
END:VEVENT
END:VCALENDAR
