BEGIN:VCALENDAR
VERSION:2.0
PRODID:TU Chemnitz
METHOD:PUBLISH
X-WR-CALNAME:Veranstaltungen der TU Chemnitz
X-WR-TIMEZONE:Europe/Berlin
BEGIN:VEVENT
CLASS:PUBLIC
DTSTART;TZID="Europe/Berlin":20051017T153000
DTEND;TZID="Europe/Berlin":20051017T170000
LOCATION:Wilhelm-Raabe-Str. 43\, Chemnitz
SUMMARY:Gastvortrag (Philosophische Fakultät\, Fachgebiet Philosophie)
DESCRIPTION:Thema: "Philosophische Anthropologie: Die Geburt des Indiviuums aus dem Paar"\n\n\nProf. Dr. Ferdinand Fellmann
ORGANIZER:MAILTO:nancy.naumann@s2003.tu-chemnitz.de
UID:6631@www.tu-chemnitz.de
CREATED:20051012T142900Z
DTSTAMP:20210802T195757Z
END:VEVENT
END:VCALENDAR
