BEGIN:VCALENDAR
VERSION:2.0
PRODID:TU Chemnitz
METHOD:PUBLISH
X-WR-CALNAME:Veranstaltungen der TU Chemnitz
X-WR-TIMEZONE:Europe/Berlin
BEGIN:VEVENT
CLASS:PUBLIC
DTSTART;TZID="Europe/Berlin":20060118T180000
DTEND;TZID="Europe/Berlin":20060118T200000
LOCATION:Reichenhainer Str. 90\, Chemnitz (Zentr. Hörsaal- und Seminargebäude)
SUMMARY:E-Learning in der Weiterbildung bei Volkswagen Coaching GmbH (Philosophische Fakultät\, Praktikumsamt)
DESCRIPTION:Öffentlicher Vortrag im Rahmen der berufsfeldbezogenen Veranstaltungsreihe "Wege in die Praxis".\nDr. Dietmar Albrecht; Volkswagen Coaching GmbH\nkatja.junghanns@phil.tu-chemnitz.de; karla.kebsch@phil.tu-chemnitz.de
ORGANIZER:MAILTO:karla.kebsch@phil.tu-chemnitz.de
UID:6622@www.tu-chemnitz.de
CREATED:20051011T094200Z
DTSTAMP:20210802T195526Z
END:VEVENT
END:VCALENDAR
