BEGIN:VCALENDAR
VERSION:2.0
PRODID:TU Chemnitz
METHOD:PUBLISH
X-WR-CALNAME:Veranstaltungen der TU Chemnitz
X-WR-TIMEZONE:Europe/Berlin
BEGIN:VEVENT
CLASS:PUBLIC
DTSTART;TZID="Europe/Berlin":20051123T180000
DTEND;TZID="Europe/Berlin":20051123T200000
LOCATION:Reichenhainer Str. 90\, Chemnitz (Zentr. Hörsaal- und Seminargebäude)
SUMMARY:"Ich bin beim Fernsehen" - Traumjob auf der Kippe!? (Philosophische Fakultät\, Praktikumsamt)
DESCRIPTION:Öffentlicher Vortrag im Rahmen der berufsfeldbezogenen Veranstaltungsreihe "Wege in die Praxis".\nSabine Jainski\, Freie Fernsehjournalistin (u.a. arte)\, Berlin\nwolfram.ette@phil.tu-chemnitz.de; karla.kebsch@phil.tu-chemnitz.de
ORGANIZER:MAILTO:karla.kebsch@phil.tu-chemnitz.de
UID:6616@www.tu-chemnitz.de
CREATED:20051011T092200Z
DTSTAMP:20210802T195645Z
END:VEVENT
END:VCALENDAR
