BEGIN:VCALENDAR
VERSION:2.0
PRODID:TU Chemnitz
METHOD:PUBLISH
X-WR-CALNAME:Veranstaltungen der TU Chemnitz
X-WR-TIMEZONE:Europe/Berlin
BEGIN:VEVENT
CLASS:PUBLIC
DTSTART;TZID="Europe/Berlin":20051008T220000
DTEND;TZID="Europe/Berlin":20051009T040000
LOCATION:Reichenhainer Str. 55\, Chemnitz (Mensa)
SUMMARY:Ozone Party (TaC & Nachtfieber Prod.)
DESCRIPTION:Black music · DJ Maxxx [Nachtfieber]\nParty Floor · DJ Team Explicit [Nachtfieber]\nHouse Floor · DJ S.I.G. [plus-minus booking L.E./DINA-4/oeC]
ORGANIZER:MAILTO:elix@hrz.tu-chemnitz.de
UID:6595@www.tu-chemnitz.de
CREATED:20051006T021900Z
DTSTAMP:20210802T195749Z
END:VEVENT
END:VCALENDAR
