BEGIN:VCALENDAR
VERSION:2.0
PRODID:TU Chemnitz
METHOD:PUBLISH
X-WR-CALNAME:Veranstaltungen der TU Chemnitz
X-WR-TIMEZONE:Europe/Berlin
BEGIN:VEVENT
CLASS:PUBLIC
DTSTART;TZID="Europe/Berlin":20051108T220000
DTEND;TZID="Europe/Berlin":20051109T030000
LOCATION:Vettersstr. 70/72\, Chemnitz (Studentenwohnheim)
SUMMARY:>>>BIG FPM - Party On 3 Floors<<< (FPM-Club)
DESCRIPTION:\n3 Etagen - 3 Floors\n\nHappy Hour die ganze Nacht: Caipi nur 2\,50 Euro und Cuba Libre nur 2\,00 Euro\n\nHavana Club Promotion\n\nAll Style mixed by Fouque\nR&B - House - Classics mixed by Accel\nSalsa - Dancehall mixed by José\n\n
ORGANIZER:MAILTO:hoga@hrz.tu-chemnitz.de
UID:6580@www.tu-chemnitz.de
CREATED:20051006T005000Z
DTSTAMP:20210802T195638Z
END:VEVENT
END:VCALENDAR
