BEGIN:VCALENDAR
VERSION:2.0
PRODID:TU Chemnitz
METHOD:PUBLISH
X-WR-CALNAME:Veranstaltungen der TU Chemnitz
X-WR-TIMEZONE:Europe/Berlin
BEGIN:VEVENT
CLASS:PUBLIC
DTSTART;TZID="Europe/Berlin":20051025T220000
DTEND;TZID="Europe/Berlin":20051026T030000
LOCATION:Vettersstr. 70/72\, Chemnitz (Studentenwohnheim)
SUMMARY:>>>Sierra Tequila Party<<< (FPM-Club)
DESCRIPTION:4 cl Tequila 1\,- Euro\n\nHappy Hour 22.00-24.00 Uhr: Tequila Sunrise nur 2\,50 Euro\n\nDrink & win:\nSammel Peso-Scheine - Die besten 3 gewinnen Sierra Tequila Pakete\n\nMusic: All Style mixed by Fouque
ORGANIZER:MAILTO:hoga@hrz.tu-chemnitz.de
UID:6577@www.tu-chemnitz.de
CREATED:20051006T004200Z
DTSTAMP:20210802T195749Z
END:VEVENT
END:VCALENDAR
