BEGIN:VCALENDAR
VERSION:2.0
PRODID:TU Chemnitz
METHOD:PUBLISH
X-WR-CALNAME:Veranstaltungen der TU Chemnitz
X-WR-TIMEZONE:Europe/Berlin
BEGIN:VEVENT
CLASS:PUBLIC
DTSTART;TZID="Europe/Berlin":20051026T171500
DTEND;TZID="Europe/Berlin":20051026T184500
LOCATION:Reichenhainer Str. 90\, Chemnitz (Zentr. Hörsaal- und Seminargebäude)
SUMMARY:Physikalisches Kolloquium: Stark erhöhte magnetische Orbitalmomente in Nanopartikel: Realität oder Artefakt? (Fakultät für Naturwissenschaften\, Institut für Physik)
DESCRIPTION:Prof. Dr. Michael Farle; Universität Duisburg-Essen\, Fachrichtung Experimentalphysik\nDr. Georgeta Salvan\, Tel. 531-3137
ORGANIZER:MAILTO:michaela.knierim@physik.tu-chemnitz.de
UID:6561@www.tu-chemnitz.de
CREATED:20051004T073500Z
DTSTAMP:20210802T195755Z
END:VEVENT
END:VCALENDAR
