BEGIN:VCALENDAR
VERSION:2.0
PRODID:TU Chemnitz
METHOD:PUBLISH
X-WR-CALNAME:Veranstaltungen der TU Chemnitz
X-WR-TIMEZONE:Europe/Berlin
BEGIN:VEVENT
CLASS:PUBLIC
DTSTART;TZID="Europe/Berlin":20051123T171500
DTEND;TZID="Europe/Berlin":20051123T184500
LOCATION:Reichenhainer Str. 90\, Chemnitz (Zentr. Hörsaal- und Seminargebäude)
SUMMARY:Physikalisches Kolloquium: Wasser auf dem Mars? - Mainzer Spektrometer auf NASA Robotern erforschen den roten Planeten (Fakultät für Naturwissenschaften\, Institut für Physik)
DESCRIPTION:Prof. Dr. Philipp Gütlich; Universität Mainz\, Fachbereich Chemie und Pharmazie\nProf. Dr. Michael Schreiber\, Tel. 531-3142
ORGANIZER:MAILTO:michaela.knierim@physik.tu-chemnitz.de
UID:6559@www.tu-chemnitz.de
CREATED:20051004T071200Z
DTSTAMP:20210802T195648Z
END:VEVENT
END:VCALENDAR
