BEGIN:VCALENDAR
VERSION:2.0
PRODID:TU Chemnitz
METHOD:PUBLISH
X-WR-CALNAME:Veranstaltungen der TU Chemnitz
X-WR-TIMEZONE:Europe/Berlin
BEGIN:VEVENT
CLASS:PUBLIC
DTSTART;TZID="Europe/Berlin":20051013T193000
DTEND;TZID="Europe/Berlin":20051013T193000
LOCATION:Vettersstr. 70/72\, Chemnitz (Studentenwohnheim)
SUMMARY:Semesterauftaktabend "Voll das Leben" (Campus für Christus Chemnitz)
DESCRIPTION:\nDas neue Semester beginnt gleich mit dem Thema "Voll das Leben". \n\nDu bist neu an der Uni? \nWenn du schon immer mal wissen wolltest\, was eine christliche Studentengruppe so anstellt\, dann bist du bei uns genau richtig!\n\nHerzlich willkommen!\n
ORGANIZER:MAILTO:cul@hrz.tu-chemnitz.de
UID:6555@www.tu-chemnitz.de
CREATED:20051002T185800Z
DTSTAMP:20210802T195753Z
END:VEVENT
END:VCALENDAR
