BEGIN:VCALENDAR
VERSION:2.0
PRODID:TU Chemnitz
METHOD:PUBLISH
X-WR-CALNAME:Veranstaltungen der TU Chemnitz
X-WR-TIMEZONE:Europe/Berlin
BEGIN:VEVENT
CLASS:PUBLIC
DTSTART;TZID="Europe/Berlin":20051004T220000
DTEND;TZID="Europe/Berlin":20051005T030000
LOCATION:Vettersstr. 70/72\, Chemnitz (Studentenwohnheim)
SUMMARY:>>>Officially Pimped - Reopening Party<<< (FPM-Club)
DESCRIPTION:\nNeue\, größere Bar - Jetzt über 90 Cocktails\n\nHappy Hour die ganze Nacht:\n- Alle Cocktails 0\,50 Euro billiger\n- Bit Sun nur 1\,00 Euro\n\nMusic: All Style mixed by Fouque\n\n
ORGANIZER:MAILTO:hoga@hrz.tu-chemnitz.de
UID:6552@www.tu-chemnitz.de
CREATED:20050930T183100Z
DTSTAMP:20210802T195747Z
END:VEVENT
END:VCALENDAR
