BEGIN:VCALENDAR
VERSION:2.0
PRODID:TU Chemnitz
METHOD:PUBLISH
X-WR-CALNAME:Veranstaltungen der TU Chemnitz
X-WR-TIMEZONE:Europe/Berlin
BEGIN:VEVENT
CLASS:PUBLIC
DTSTART;TZID="Europe/Berlin":19990927T193000
DTEND;TZID="Europe/Berlin":19990927T193000
LOCATION:Chemnitzer Schauspielhaus
SUMMARY:Chemnitzer Goethe-Vorträge 1999: "Komik und Zeitkritik in Goethes Faust II" (Städtische Theater und Professur Deutsche Literatur der Neuzeit)
DESCRIPTION:Dr. Thomas Zabka\, FU Berlin/Zentralinstitut für Fachdidaktiken\nProf. Dr. Bernd Leistner\, Tel. 5 31-45 30\, Dr. Karl-Hans Möller\, Tel. 6 96 98 04
ORGANIZER:MAILTO:iroe@hrz.tu-chemnitz.de
UID:655@www.tu-chemnitz.de
CREATED:19990827T075800Z
DTSTAMP:20210802T203330Z
END:VEVENT
END:VCALENDAR
