BEGIN:VCALENDAR
VERSION:2.0
PRODID:TU Chemnitz
METHOD:PUBLISH
X-WR-CALNAME:Veranstaltungen der TU Chemnitz
X-WR-TIMEZONE:Europe/Berlin
BEGIN:VEVENT
CLASS:PUBLIC
DTSTART;TZID="Europe/Berlin":20050929T210000
DTEND;TZID="Europe/Berlin":20050929T210000
LOCATION:Kino\, Reichenhainer Str. 35/37
SUMMARY:[Kino * "mittendrin"] Bombon - Eine Geschichte aus Patagonien (Filmclub »mittendrin«)
DESCRIPTION:Wir starten doch bereits in dieser Woche wieder mit unserem Programm.\nBegonnen wird mit einem Programmkinohighlight aus Südamerika.\nEinlass: 20.30\nFilm: 21.00
ORGANIZER:MAILTO:schneide@hrz.tu-chemnitz.de
UID:6548@www.tu-chemnitz.de
CREATED:20050928T173300Z
DTSTAMP:20210802T195823Z
END:VEVENT
END:VCALENDAR
