BEGIN:VCALENDAR
VERSION:2.0
PRODID:TU Chemnitz
METHOD:PUBLISH
X-WR-CALNAME:Veranstaltungen der TU Chemnitz
X-WR-TIMEZONE:Europe/Berlin
BEGIN:VEVENT
CLASS:PUBLIC
DTSTART;TZID="Europe/Berlin":20051012T134500
DTEND;TZID="Europe/Berlin":20051012T151500
LOCATION:Reichenhainer Str. 70\, Chemnitz (Rühlmann-Bau)
SUMMARY:"Nutzerforum des URZ - Scientific Linux 4 in den zentralen Computerpools" (Universitätsrechenzentrum)
DESCRIPTION:Für alle Nutzer der zentralen Computer-Pools\, insbesondere auch für Praktikaverantwortliche\, und Interessenten. Mehr Infos auf der Webseite!\nDipl.-Inf. Thomas Müller\, URZ
ORGANIZER:MAILTO:uri@hrz.tu-chemnitz.de
UID:6537@www.tu-chemnitz.de
CREATED:20050922T112700Z
DTSTAMP:20210802T195749Z
END:VEVENT
END:VCALENDAR
