BEGIN:VCALENDAR
VERSION:2.0
PRODID:TU Chemnitz
METHOD:PUBLISH
X-WR-CALNAME:Veranstaltungen der TU Chemnitz
X-WR-TIMEZONE:Europe/Berlin
BEGIN:VEVENT
CLASS:PUBLIC
DTSTART;TZID="Europe/Berlin":20051124T160000
DTEND;TZID="Europe/Berlin":20051124T180000
LOCATION:Str. der Nationen 62\, Chemnitz (Böttcher-Bau)
SUMMARY:Verzweigung in Polymerarchitekturen: Interessante Perspektiven von der Nanostrukturierung bis zur Proteinstabilisierung (Fakultät für Naturwissenschaften\, Institut für Chemie gemeinsam mit dem Ortsverband Chemnitz der Gesellschaft Deutscher Chemiker)
DESCRIPTION:Prof. Dr. Holger Frey\, Johannes Gutenberg-Universität\, Institut für Organische Chemie Mainz\nProf. Dr. R. Holze\, Technische Universität Chemnitz\, fon: 0371 531 1509\, e-mail: rudolf.holze@chemie.tu-chemnitz.de
ORGANIZER:MAILTO:elke.rahm@chemie.tu-chemnitz.de
UID:6531@www.tu-chemnitz.de
CREATED:20050922T104100Z
DTSTAMP:20210802T195645Z
END:VEVENT
END:VCALENDAR
