BEGIN:VCALENDAR
VERSION:2.0
PRODID:TU Chemnitz
METHOD:PUBLISH
X-WR-CALNAME:Veranstaltungen der TU Chemnitz
X-WR-TIMEZONE:Europe/Berlin
BEGIN:VEVENT
CLASS:PUBLIC
DTSTART;TZID="Europe/Berlin":20051213T193000
DTEND;TZID="Europe/Berlin":20051213T235900
LOCATION:Reichenhainer Str. 55\, Chemnitz (Mensa)
SUMMARY:TaC: Weihnachtsskat mit super Preisen (TaC und StuWe)
DESCRIPTION:Die Campusmeisterschaft im Skat bzw. der "IV. Weihnachtsskat" im TaC. 1. Preis ist ein Kühlschrank von Heineken   Sonderpreis für die beste Frau...Meldung an der Bar im TaC via Meldezettel...Startgeld 2 EUR\ninfo@treff-am-campus.de
ORGANIZER:MAILTO:made@hrz.tu-chemnitz.de
UID:6491@www.tu-chemnitz.de
CREATED:20050901T104800Z
DTSTAMP:20210802T195559Z
END:VEVENT
END:VCALENDAR
