BEGIN:VCALENDAR
VERSION:2.0
PRODID:TU Chemnitz
METHOD:PUBLISH
X-WR-CALNAME:Veranstaltungen der TU Chemnitz
X-WR-TIMEZONE:Europe/Berlin
BEGIN:VEVENT
CLASS:PUBLIC
DTSTART;TZID="Europe/Berlin":20050908T190000
DTEND;TZID="Europe/Berlin":20050908T200000
LOCATION:DAStietz\, Veranstaltungssaal Stadtbibliothek Chemnitz
SUMMARY:Brasilien und Deutschland - Tradition nutzen\, Zukunft gestalten (Deutsch-Brasilianische Gesellschaft e.V.)
DESCRIPTION:Von deutschen Auswanderern über Unternehmenskooperationen bis zu Austauschstudenten bestehen vielfältige Verbindungen zwischen Chemnitz und Brasilien. Der Vortrag von Herrn Dr. Kaestner wird der Auftakt der Gesellschaft in Chemnitz sein.\nDr. Uwe Kaestner\, Botschafter a.D. der BRD in Brasilien
ORGANIZER:MAILTO:wko@hrz.tu-chemnitz.de
UID:6482@www.tu-chemnitz.de
CREATED:20050830T002900Z
DTSTAMP:20210802T195826Z
END:VEVENT
END:VCALENDAR
