BEGIN:VCALENDAR
VERSION:2.0
PRODID:TU Chemnitz
METHOD:PUBLISH
X-WR-CALNAME:Veranstaltungen der TU Chemnitz
X-WR-TIMEZONE:Europe/Berlin
BEGIN:VEVENT
CLASS:PUBLIC
DTSTART;TZID="Europe/Berlin":20060304T080000
DTEND;TZID="Europe/Berlin":20060305T190000
LOCATION:Reichenhainer Str. 90\, Chemnitz (Zentr. Hörsaal- und Seminargebäude)
SUMMARY:Chemnitzer Linux-Tage 2006 (Universitätsrechenzentrum\, IN Chemnitz e.V.)
DESCRIPTION:Neben den Vorträgen bieten die Linux-Tage Workshops und Linux-Live\, ein Forum für Projekte und Anbieter rund um die Themen Linux und Open Source.\n0371/531-1377\, team@linux-tage.de
ORGANIZER:MAILTO:ronsc@hrz.tu-chemnitz.de
UID:6476@www.tu-chemnitz.de
CREATED:20050824T143800Z
DTSTAMP:20210802T195453Z
END:VEVENT
END:VCALENDAR
