BEGIN:VCALENDAR
VERSION:2.0
PRODID:TU Chemnitz
METHOD:PUBLISH
X-WR-CALNAME:Veranstaltungen der TU Chemnitz
X-WR-TIMEZONE:Europe/Berlin
BEGIN:VEVENT
CLASS:PUBLIC
DTSTART;TZID="Europe/Berlin":20051020T120000
DTEND;TZID="Europe/Berlin":20051022T161500
LOCATION:Hotel Wettiner Höhe in Seiffen
SUMMARY:Konferenz "Europäische Umweltpolitik" (Fakultät für Wirtschaftswissenschaften\, Dr. D. Rübbelke; Prof. Dr. K.D. John; STHZ)
DESCRIPTION:Zu den Themen wie Europäisches Umweltmanagement\, Internationale Klimapolitik\, Nachhaltige Entwicklung und EU-Umweltschutzregulierung werden tschechische und deutsche Wissenschaftler sprechen.
ORGANIZER:MAILTO:jenny-kirchner@web.de
UID:6468@www.tu-chemnitz.de
CREATED:20050818T115300Z
DTSTAMP:20210802T195759Z
END:VEVENT
END:VCALENDAR
