BEGIN:VCALENDAR
VERSION:2.0
PRODID:TU Chemnitz
METHOD:PUBLISH
X-WR-CALNAME:Veranstaltungen der TU Chemnitz
X-WR-TIMEZONE:Europe/Berlin
BEGIN:VEVENT
CLASS:PUBLIC
DTSTART;TZID="Europe/Berlin":20050825T173000
DTEND;TZID="Europe/Berlin":20050825T190000
LOCATION:Str. der Nationen 62\, Chemnitz (Altes Heizhaus)
SUMMARY:Networking-Event mit academici (TU Chemnitz\, Bereich Marketing/Öffentlichkeitsarbeit)
DESCRIPTION:Vortrag und Diskussion über academici.com\, das als Netzwerk den wissenschaftlichen Austausch fördert und weltweit gezielt wissenschaftliche Fortschritte bekannt macht-in vier verschiedenen Sprachen. Eine Anmeldung ist nicht erforderlich.\nProf. Dr. Markus Vinzent\, CEO academici Ltd.\nHenning Lindhorst\, (0371) 5 31 17 84\, henning.lindhorst@verwaltung.tu-chemnitz.de
ORGANIZER:MAILTO:henning.lindhorst@verwaltung.tu-chemnitz.de
UID:6467@www.tu-chemnitz.de
CREATED:20050816T185200Z
DTSTAMP:20210802T195855Z
END:VEVENT
END:VCALENDAR
