BEGIN:VCALENDAR
VERSION:2.0
PRODID:TU Chemnitz
METHOD:PUBLISH
X-WR-CALNAME:Veranstaltungen der TU Chemnitz
X-WR-TIMEZONE:Europe/Berlin
BEGIN:VEVENT
CLASS:PUBLIC
DTSTART;TZID="Europe/Berlin":20000215T163000
DTEND;TZID="Europe/Berlin":20000215T180000
LOCATION:Uni-Teil 1: Str. der Nationen 62\, Chemnitz (Böttcher-Bau)
SUMMARY:Seniorenkolleg: "Entwicklung des ehemaligen Forschungsinstitutes "Manfred von Ardenne" - die daraus hervorgegangenen Ergebnisse und die Fortführung der Arbeiten" (TU Chemnitz\, Gesellschaft der Freunde der TU Chemnitz e.V.\, Professur Erwachsenenbildung und betriebliche Weiterbildung)
DESCRIPTION:Horst Schmidt\, Dresden\ndienstags von 10.00 bis 15.30 Uhr\, Tel. 5 31-12 26
ORGANIZER:MAILTO:iroe@hrz.tu-chemnitz.de
UID:646@www.tu-chemnitz.de
CREATED:19990823T151100Z
DTSTAMP:20210802T203218Z
END:VEVENT
END:VCALENDAR
