BEGIN:VCALENDAR
VERSION:2.0
PRODID:TU Chemnitz
METHOD:PUBLISH
X-WR-CALNAME:Veranstaltungen der TU Chemnitz
X-WR-TIMEZONE:Europe/Berlin
BEGIN:VEVENT
CLASS:PUBLIC
DTSTART;TZID="Europe/Berlin":20050904T103000
DTEND;TZID="Europe/Berlin":20050904T113000
LOCATION:Reichenhainer Str. 90\, Chemnitz (Zentr. Hörsaal- und Seminargebäude)
SUMMARY:Kindervorlesung "Warum bin ich 'ICH'? (Philosophische Fakultät\, Professur Erwachsenenbildung und betriebliche Weiterbildung/)
DESCRIPTION:Saskia Loewe/Thomas Kleimann\, Professur Philosophie und Wissenschaftstheorie der Technischen Universität Chemnitz\nJana Voigt\, Tel. 0371/531 4532\, E-Mail: jana.voigt@phil.tu-chemnitz.de
ORGANIZER:MAILTO:jana.voigt@phil.tu-chemnitz.de
UID:6439@www.tu-chemnitz.de
CREATED:20050802T081500Z
DTSTAMP:20210802T195827Z
END:VEVENT
END:VCALENDAR
