BEGIN:VCALENDAR
VERSION:2.0
PRODID:TU Chemnitz
METHOD:PUBLISH
X-WR-CALNAME:Veranstaltungen der TU Chemnitz
X-WR-TIMEZONE:Europe/Berlin
BEGIN:VEVENT
CLASS:PUBLIC
DTSTART;TZID="Europe/Berlin":20050808T210000
DTEND;TZID="Europe/Berlin":20050808T235900
LOCATION:Reichenhainer Str. 37/Keller
SUMMARY:Ferien-MontagsKneipe im PEB (PEB-Studentenkeller)
DESCRIPTION:Hallo Leute!\n\nLust auf ne Runde \n3-D-Vier-Gewinnt\,\nSchach\,\nSkat\,\nDoppelkopf o.ä.?\n\nDazu gibts dann Bier\, Wein und andere leckere Sachen an der Bar.\n\nWir sehen uns\,\ndie PEB-Crew
ORGANIZER:MAILTO:mahub@hrz.tu-chemnitz.de
UID:6434@www.tu-chemnitz.de
CREATED:20050801T150200Z
DTSTAMP:20210802T195856Z
END:VEVENT
END:VCALENDAR
