BEGIN:VCALENDAR
VERSION:2.0
PRODID:TU Chemnitz
METHOD:PUBLISH
X-WR-CALNAME:Veranstaltungen der TU Chemnitz
X-WR-TIMEZONE:Europe/Berlin
BEGIN:VEVENT
CLASS:PUBLIC
DTSTART;TZID="Europe/Berlin":19991214T163000
DTEND;TZID="Europe/Berlin":19991214T180000
LOCATION:Uni-Teil 1: Str. der Nationen 62\, Chemnitz (Böttcher-Bau)
SUMMARY:Seniorenkolleg: "Menschheitsgeschichte - Werkstoffe - technischer Fortschritt" (TU Chemnitz\, Gesellschaft der Freunde der TU Chemnitz e.V.\, Professur Erwachsenenbildung und betriebliche Weiterbildung)
DESCRIPTION:Prof. Dr. Bernhard Wielage\, TU Chemnitz\ndienstags von 10.00 bis 15.30 Uhr\, Tel. 5 31-12 26
ORGANIZER:MAILTO:iroe@hrz.tu-chemnitz.de
UID:643@www.tu-chemnitz.de
CREATED:19990823T150000Z
DTSTAMP:20210802T203245Z
END:VEVENT
END:VCALENDAR
