BEGIN:VCALENDAR
VERSION:2.0
PRODID:TU Chemnitz
METHOD:PUBLISH
X-WR-CALNAME:Veranstaltungen der TU Chemnitz
X-WR-TIMEZONE:Europe/Berlin
BEGIN:VEVENT
CLASS:PUBLIC
DTSTART;TZID="Europe/Berlin":20051117T080000
DTEND;TZID="Europe/Berlin":20051120T140000
LOCATION:Reichenhainer Str. 70\, Chemnitz (Rühlmann-Bau)
SUMMARY:Bundesfachtagung der Chemiefachschaften (Fakultät für Naturwissenschaften\, Fachschaftsrat Chemie)
DESCRIPTION:
ORGANIZER:MAILTO:sascha.tripke@chemie.tu-chemnitz.de
UID:6420@www.tu-chemnitz.de
CREATED:20050723T142200Z
DTSTAMP:20210802T195633Z
END:VEVENT
END:VCALENDAR
