BEGIN:VCALENDAR
VERSION:2.0
PRODID:TU Chemnitz
METHOD:PUBLISH
X-WR-CALNAME:Veranstaltungen der TU Chemnitz
X-WR-TIMEZONE:Europe/Berlin
BEGIN:VEVENT
CLASS:PUBLIC
DTSTART;TZID="Europe/Berlin":20050727T200000
DTEND;TZID="Europe/Berlin":20050727T230000
LOCATION:Reichenhainer Str. 55\, Chemnitz (Mensa)
SUMMARY:TaC-Premiere Sportkneipe: Schalke 04 - Werder Bremen (TaC)
DESCRIPTION:Jou die Fußball-arme Zeit ist zum Glück vorbei...und da beginnt das Jahr mit dem Ligapokal...am Mittwoch ist Schalke dran....Gegner Werder Bremen (Pokal-Revanche ?)...live auf Premiere und Großleinwand im TaC in der Mensa
ORGANIZER:MAILTO:made@hrz.tu-chemnitz.de
UID:6418@www.tu-chemnitz.de
CREATED:20050722T122500Z
DTSTAMP:20210802T195908Z
END:VEVENT
END:VCALENDAR
