BEGIN:VCALENDAR
VERSION:2.0
PRODID:TU Chemnitz
METHOD:PUBLISH
X-WR-CALNAME:Veranstaltungen der TU Chemnitz
X-WR-TIMEZONE:Europe/Berlin
BEGIN:VEVENT
CLASS:PUBLIC
DTSTART;TZID="Europe/Berlin":20060331T100000
DTEND;TZID="Europe/Berlin":20060401T170000
LOCATION:Reichenhainer Str. 90\, Chemnitz (Zentr. Hörsaal- und Seminargebäude)
SUMMARY:2. Studentische Medientage Chemnitz (Philosophische Fakultät\, Professur Medienkommunikation)
DESCRIPTION:Thema: "Medien und Wirklichkeit"\n\nAnett Kretzer\, E-Mail krane@hrz.tu-chemnitz.de\, Anmeldung bis 31.01.2006 erwünscht
ORGANIZER:MAILTO:pressestelle@tu-chemnitz.de
UID:6408@www.tu-chemnitz.de
CREATED:20050719T144500Z
DTSTAMP:20210802T195458Z
END:VEVENT
END:VCALENDAR
