BEGIN:VCALENDAR
VERSION:2.0
PRODID:TU Chemnitz
METHOD:PUBLISH
X-WR-CALNAME:Veranstaltungen der TU Chemnitz
X-WR-TIMEZONE:Europe/Berlin
BEGIN:VEVENT
CLASS:PUBLIC
DTSTART;TZID="Europe/Berlin":20050713T180000
DTEND;TZID="Europe/Berlin":20050731T120000
LOCATION:Reichenhainer Str. 55\, Chemnitz (Mensa)
SUMMARY:Neue Ausgabe Online (Philosophische Fakultät\, Redaktion LEO)
DESCRIPTION:Die Juli-Ausgabe von LEO gratuliert Litfaßsäule und Duden zu runden Geburtstagen\, warnt vor Aufdrucken auf T-Shirts\, erklärt das Für und Wider von Komplimenten\, untersucht die Schimpf-Kultur im Bundestag\, berichtet über die Schatzsuche per Geocaching uvm.
ORGANIZER:MAILTO:leo@tu-chemnitz.de
UID:6398@www.tu-chemnitz.de
CREATED:20050713T122300Z
DTSTAMP:20210802T195905Z
END:VEVENT
END:VCALENDAR
