BEGIN:VCALENDAR
VERSION:2.0
PRODID:TU Chemnitz
METHOD:PUBLISH
X-WR-CALNAME:Veranstaltungen der TU Chemnitz
X-WR-TIMEZONE:Europe/Berlin
BEGIN:VEVENT
CLASS:PUBLIC
DTSTART;TZID="Europe/Berlin":19991005T163000
DTEND;TZID="Europe/Berlin":19991005T180000
LOCATION:Uni-Teil 3: Reichenhainer Str. 70\, Chemnitz (Zentr. Hörsaal- und Seminargebäude)
SUMMARY:Eröffnungsveranstaltung Seniorenkolleg: "Das Jahr der Senioren" (TU Chemnitz\, Gesellschaft der Freunde der TU Chemnitz e.V.\, Professur Erwachsenenbildung und betriebliche Weiterbildung)
DESCRIPTION:Dr. Bernhard Worms\, Bundesvorsitzender der Seniorenunion\ndienstags von 10.00 bis 15.30 Uhr\, Tel. 5 31-12 26
ORGANIZER:MAILTO:iroe@hrz.tu-chemnitz.de
UID:638@www.tu-chemnitz.de
CREATED:19990823T132300Z
DTSTAMP:20210802T203310Z
END:VEVENT
END:VCALENDAR
