BEGIN:VCALENDAR
VERSION:2.0
PRODID:TU Chemnitz
METHOD:PUBLISH
X-WR-CALNAME:Veranstaltungen der TU Chemnitz
X-WR-TIMEZONE:Europe/Berlin
BEGIN:VEVENT
CLASS:PUBLIC
DTSTART;TZID="Europe/Berlin":20050701T080000
DTEND;TZID="Europe/Berlin":20050707T120000
LOCATION:Reichenhainer Str. 55\, Chemnitz (Mensa)
SUMMARY:Abtakt+Beachparty (moonlightdancing.de)
DESCRIPTION:VVK für die Beachparty ab Montag 04.07.05\,TAC und Mensa\, Universitas !!!\ninfo@moonlightdancing.de
ORGANIZER:MAILTO:andreas.david@s1998.tu-chemnitz.de
UID:6373@www.tu-chemnitz.de
CREATED:20050701T150900Z
DTSTAMP:20210802T195909Z
END:VEVENT
END:VCALENDAR
